BEGIN:VCALENDAR
VERSION:2.0
PRODID:-//My Calendar//http://www.joedolson.com//v3.2.16//EN
METHOD:PUBLISH
CALSCALE:GREGORIAN
X-WR-CALNAME:Escuela Normal Superior de Jericó
X-PUBLISHED-TTL:PT24H
REFRESH-INTERVAL;VALUE=DURATION:PT24H
X-WR-CALDESC:Events from Escuela Normal Superior de Jericó
BEGIN:VEVENT
UID:150-104
LOCATION:I.E. Escuela Normal Superior de Jericó - Sede Secundaria Carrera 2 No 5 - 36  Jericó  Antioquia
SUMMARY:Cumpleaños 70 de la Institución Educativa
DTSTAMP:20180216T070000
ORGANIZER;CN=admin:MAILTO:herjios@ensjerico.edu.co
DTSTART;TZID=America/Bogota:20180216T070000
DTEND;TZID=America/Bogota:20180216T080000
URL;VALUE=URI:http://www.normalsuperiordejerico.com/wordpress/my-calendar/
DESCRIPTION: 
CATEGORIES:Institucional
END:VEVENT
BEGIN:VEVENT
UID:149-103
LOCATION:I.E. Escuela Normal Superior de Jericó - Sede Secundaria Carrera 2 No 5 - 36  Jericó  Antioquia
SUMMARY:Elecciones Gobierno Escolar ENS 2018
DTSTAMP:20180223T080000
ORGANIZER;CN=admin:MAILTO:herjios@ensjerico.edu.co
DTSTART;TZID=America/Bogota:20180223T080000
DTEND;TZID=America/Bogota:20180223T130000
URL;VALUE=URI:http://www.normalsuperiordejerico.com/wordpress/my-calendar/
DESCRIPTION:Se votará por los representes al consejo estudiantil, contraloría y personería. 
CATEGORIES:Institucional
END:VEVENT
BEGIN:VEVENT
UID:148-102
LOCATION:I.E. Escuela Normal Superior de Jericó - Sede Secundaria Carrera 2 No 5 - 36  Jericó  Antioquia
SUMMARY:Imposición de la Santa Ceniza
DTSTAMP:20180214T070000
ORGANIZER;CN=admin:MAILTO:herjios@ensjerico.edu.co
DTSTART;TZID=America/Bogota:20180214T070000
DTEND;TZID=America/Bogota:20180214T130000
URL;VALUE=URI:http://www.normalsuperiordejerico.com/wordpress/my-calendar/
DESCRIPTION: 
CATEGORIES:General
END:VEVENT
BEGIN:VEVENT
UID:147-101
LOCATION:I.E. Escuela Normal Superior de Jericó - Sede Secundaria Carrera 2 No 5 - 36  Jericó  Antioquia
SUMMARY:Dia de la Democracia Escolar
DTSTAMP:20180214T070000
ORGANIZER;CN=admin:MAILTO:herjios@ensjerico.edu.co
DTSTART;TZID=America/Bogota:20180214T070000
DTEND;TZID=America/Bogota:20180214T130000
URL;VALUE=URI:http://www.normalsuperiordejerico.com/wordpress/my-calendar/
DESCRIPTION:Elección de personero, Contralor y Consejo de estudiantes 
CATEGORIES:Institucional
END:VEVENT
BEGIN:VEVENT
UID:146-100
LOCATION:I.E. Escuela Normal Superior de Jericó - Sede Secundaria Carrera 2 No 5 - 36  Jericó  Antioquia
SUMMARY:Reunion de Padres de Familia Grado 9º
DTSTAMP:20180130T143000
ORGANIZER;CN=admin:MAILTO:herjios@ensjerico.edu.co
DTSTART;TZID=America/Bogota:20180130T143000
DTEND;TZID=America/Bogota:20180130T160000
URL;VALUE=URI:http://www.normalsuperiordejerico.com/wordpress/my-calendar/
DESCRIPTION: 
CATEGORIES:Reunión
END:VEVENT
BEGIN:VEVENT
UID:145-99
LOCATION:I.E. Escuela Normal Superior de Jericó - Sede Secundaria Carrera 2 No 5 - 36  Jericó  Antioquia
SUMMARY:Material para el banco de talleres
DTSTAMP:20180126T070000
ORGANIZER;CN=admin:MAILTO:herjios@ensjerico.edu.co
DTSTART;TZID=America/Bogota:20180126T070000
DTEND;TZID=America/Bogota:20180126T180000
URL;VALUE=URI:http://www.normalsuperiordejerico.com/wordpress/my-calendar/
DESCRIPTION:Entrega a coordinación académica de 5 talleres por área para banco de talleres. 
CATEGORIES:Institucional
END:VEVENT
BEGIN:VEVENT
UID:144-98
LOCATION:
SUMMARY:Reunion de Padres de Familia Sede Palenquito
DTSTAMP:20180124T000000
ORGANIZER;CN=admin:MAILTO:herjios@ensjerico.edu.co
DTSTART;TZID=America/Bogota:20180124T000000
DTEND;TZID=America/Bogota:20180125T000000
URL;VALUE=URI:http://www.normalsuperiordejerico.com/wordpress/my-calendar/
DESCRIPTION: 
CATEGORIES:Institucional
X-FUNAMBOL-ALLDAY: 1
X-MICROSOFT-CDO-ALLDAYEVENT: TRUE

END:VEVENT
BEGIN:VEVENT
UID:143-97
LOCATION:Teatro Santa Maria Clle 9 Carrera 5  Jericó
SUMMARY:1ª Asamblea de Padres de Familia
DTSTAMP:20180125T143000
ORGANIZER;CN=admin:MAILTO:herjios@ensjerico.edu.co
DTSTART;TZID=America/Bogota:20180125T143000
DTEND;TZID=America/Bogota:20180125T160000
URL;VALUE=URI:http://www.normalsuperiordejerico.com/wordpress/my-calendar/
DESCRIPTION:Lugar: Teatro SantamaríaHora: 2:00 p.m. 
CATEGORIES:Asamblea
END:VEVENT
BEGIN:VEVENT
UID:141-96
LOCATION:I.E. Escuela Normal Superior de Jericó - Sede Secundaria Carrera 2 No 5 - 36  Jericó  Antioquia
SUMMARY:Certificación grados 9º y reconocimiento de desempeño
DTSTAMP:20171206T000000
ORGANIZER;CN=admin:MAILTO:herjios@ensjerico.edu.co
DTSTART;TZID=America/Bogota:20171206T000000
DTEND;TZID=America/Bogota:20171207T000000
URL;VALUE=URI:http://www.normalsuperiordejerico.com/wordpress/my-calendar/
DESCRIPTION:Celebración de la certificación de los grados 9º 
CATEGORIES:Institucional
X-FUNAMBOL-ALLDAY: 1
X-MICROSOFT-CDO-ALLDAYEVENT: TRUE

END:VEVENT
BEGIN:VEVENT
UID:140-95
LOCATION:I.E. Escuela Normal Superior de Jericó - Sede Secundaria Carrera 2 No 5 - 36  Jericó  Antioquia
SUMMARY:Actividades de recuperación de las áreas (Docentes Paro)
DTSTAMP:20171204T000000
ORGANIZER;CN=admin:MAILTO:herjios@ensjerico.edu.co
DTSTART;TZID=America/Bogota:20171204T000000
DTEND;TZID=America/Bogota:20171208T000000
URL;VALUE=URI:http://www.normalsuperiordejerico.com/wordpress/my-calendar/
DESCRIPTION:Actividades de recuperación a estudiantes de las áreas de los docentes que estuvieron en paro. 
CATEGORIES:Institucional
X-FUNAMBOL-ALLDAY: 1
X-MICROSOFT-CDO-ALLDAYEVENT: TRUE

END:VEVENT
BEGIN:VEVENT
UID:139-94
LOCATION:I.E. Escuela Normal Superior de Jericó - Sede Secundaria Carrera 2 No 5 - 36  Jericó  Antioquia
SUMMARY:Celebración de grados 11º y Formación complementaria
DTSTAMP:20171130T000000
ORGANIZER;CN=admin:MAILTO:herjios@ensjerico.edu.co
DTSTART;TZID=America/Bogota:20171130T000000
DTEND;TZID=America/Bogota:20171201T000000
URL;VALUE=URI:http://www.normalsuperiordejerico.com/wordpress/my-calendar/
DESCRIPTION:ceremonia de graduación de los grados 11º y los del programa de formación complementaria 
CATEGORIES:Institucional
X-FUNAMBOL-ALLDAY: 1
X-MICROSOFT-CDO-ALLDAYEVENT: TRUE

END:VEVENT
BEGIN:VEVENT
UID:138-93
LOCATION:I.E. Escuela Normal Superior de Jericó - Sede Secundaria Carrera 2 No 5 - 36  Jericó  Antioquia
SUMMARY:Fin del Período Académico (Áreas paro) y Entrega de Notas en Secretaría
DTSTAMP:20171201T000000
ORGANIZER;CN=admin:MAILTO:herjios@ensjerico.edu.co
DTSTART;TZID=America/Bogota:20171201T000000
DTEND;TZID=America/Bogota:20171202T000000
URL;VALUE=URI:http://www.normalsuperiordejerico.com/wordpress/my-calendar/
DESCRIPTION:Fin de periodo académico para las áreas de los docentes que estuvieron en paro y Entrega de notas en secretaria (Master 2000) 
CATEGORIES:Institucional
X-FUNAMBOL-ALLDAY: 1
X-MICROSOFT-CDO-ALLDAYEVENT: TRUE

END:VEVENT
BEGIN:VEVENT
UID:137-92
LOCATION:I.E. Escuela Normal Superior de Jericó - Sede Secundaria Carrera 2 No 5 - 36  Jericó  Antioquia
SUMMARY:Entrega de banderas y Celebración eucarística de grados
DTSTAMP:20171129T000000
ORGANIZER;CN=admin:MAILTO:herjios@ensjerico.edu.co
DTSTART;TZID=America/Bogota:20171129T000000
DTEND;TZID=America/Bogota:20171130T000000
URL;VALUE=URI:http://www.normalsuperiordejerico.com/wordpress/my-calendar/
DESCRIPTION:Entrega de banderas, misa de grados y Brindis a las 4:30 p.m. 
CATEGORIES:Reunión
X-FUNAMBOL-ALLDAY: 1
X-MICROSOFT-CDO-ALLDAYEVENT: TRUE

END:VEVENT
BEGIN:VEVENT
UID:136-91
LOCATION:I.E. Escuela Normal Superior de Jericó - Sede Secundaria Carrera 2 No 5 - 36  Jericó  Antioquia
SUMMARY:Valores Normalistas
DTSTAMP:20171128T000000
ORGANIZER;CN=admin:MAILTO:herjios@ensjerico.edu.co
DTSTART;TZID=America/Bogota:20171128T000000
DTEND;TZID=America/Bogota:20171129T000000
URL;VALUE=URI:http://www.normalsuperiordejerico.com/wordpress/my-calendar/
DESCRIPTION:Celebración institucional de los valores normalistas ENS Jericó 
CATEGORIES:Asamblea
X-FUNAMBOL-ALLDAY: 1
X-MICROSOFT-CDO-ALLDAYEVENT: TRUE

END:VEVENT
BEGIN:VEVENT
UID:135-90
LOCATION:I.E. Escuela Normal Superior de Jericó - Sede Secundaria Carrera 2 No 5 - 36  Jericó  Antioquia
SUMMARY:Navidad en familia ENS Secundaria
DTSTAMP:20171128T000000
ORGANIZER;CN=admin:MAILTO:herjios@ensjerico.edu.co
DTSTART;TZID=America/Bogota:20171128T000000
DTEND;TZID=America/Bogota:20171129T000000
URL;VALUE=URI:http://www.normalsuperiordejerico.com/wordpress/my-calendar/
DESCRIPTION:Celebración de la navidad en familia en la secundaria 2017 
CATEGORIES:Reunión
X-FUNAMBOL-ALLDAY: 1
X-MICROSOFT-CDO-ALLDAYEVENT: TRUE

END:VEVENT
BEGIN:VEVENT
UID:134-89
LOCATION:I.E. Escuela Normal Superior de Jericó - Sede Secundaria Carrera 2 No 5 - 36  Jericó  Antioquia
SUMMARY:Selección de aspirantes al programa de formación complementaria 2018
DTSTAMP:20171127T000000
ORGANIZER;CN=admin:MAILTO:herjios@ensjerico.edu.co
DTSTART;TZID=America/Bogota:20171127T000000
DTEND;TZID=America/Bogota:20171128T000000
URL;VALUE=URI:http://www.normalsuperiordejerico.com/wordpress/my-calendar/
DESCRIPTION:Inicio del proceso de selección para ingresar al programa de la formación complementaria 2018 
CATEGORIES:General
X-FUNAMBOL-ALLDAY: 1
X-MICROSOFT-CDO-ALLDAYEVENT: TRUE

END:VEVENT
BEGIN:VEVENT
UID:133-88
LOCATION:I.E. Escuela Normal Superior de Jericó - Sede Primaria   Jericó
SUMMARY:Navidad en familia ENS Primaría
DTSTAMP:20171127T000000
ORGANIZER;CN=admin:MAILTO:herjios@ensjerico.edu.co
DTSTART;TZID=America/Bogota:20171127T000000
DTEND;TZID=America/Bogota:20171128T000000
URL;VALUE=URI:http://www.normalsuperiordejerico.com/wordpress/my-calendar/
DESCRIPTION:Celebración de la navidad en la primaria 
CATEGORIES:Reunión
X-FUNAMBOL-ALLDAY: 1
X-MICROSOFT-CDO-ALLDAYEVENT: TRUE

END:VEVENT
BEGIN:VEVENT
UID:131-86
LOCATION:I.E. Escuela Normal Superior de Jericó - Sede Secundaria Carrera 2 No 5 - 36  Jericó  Antioquia
SUMMARY:Actividades de recuperación (Docentes no Paro)
DTSTAMP:20171127T000000
ORGANIZER;CN=admin:MAILTO:herjios@ensjerico.edu.co
DTSTART;TZID=America/Bogota:20171127T000000
DTEND;TZID=America/Bogota:20171201T000000
URL;VALUE=URI:http://www.normalsuperiordejerico.com/wordpress/my-calendar/
DESCRIPTION:Actividades de recuperación a estudiantes de las áreas de los docentes que no estuvieron en paro 
CATEGORIES:Institucional
X-FUNAMBOL-ALLDAY: 1
X-MICROSOFT-CDO-ALLDAYEVENT: TRUE

END:VEVENT
BEGIN:VEVENT
UID:130-85
LOCATION:I.E. Escuela Normal Superior de Jericó - Sede Secundaria Carrera 2 No 5 - 36  Jericó  Antioquia
SUMMARY:Entrega de notas (Docentes que no estuvieron en paro)
DTSTAMP:20171127T000000
ORGANIZER;CN=admin:MAILTO:herjios@ensjerico.edu.co
DTSTART;TZID=America/Bogota:20171127T000000
DTEND;TZID=America/Bogota:20171128T000000
URL;VALUE=URI:http://www.normalsuperiordejerico.com/wordpress/my-calendar/
DESCRIPTION:Entrega de notas en secretaria Docentes 
CATEGORIES:Institucional
X-FUNAMBOL-ALLDAY: 1
X-MICROSOFT-CDO-ALLDAYEVENT: TRUE

END:VEVENT
BEGIN:VEVENT
UID:128-83
LOCATION:
SUMMARY:Evaluaciones Finales 3er periodo 2017 (Areas de Docentes Paro)
DTSTAMP:20171127T000000
ORGANIZER;CN=admin:MAILTO:herjios@ensjerico.edu.co
DTSTART;TZID=America/Bogota:20171127T000000
DTEND;TZID=America/Bogota:20171128T000000
URL;VALUE=URI:http://www.normalsuperiordejerico.com/wordpress/my-calendar/
DESCRIPTION:Evaluaciones finales 3 periodo 2017 áreas de docentes que estuvieron en paro 
CATEGORIES:Institucional
X-FUNAMBOL-ALLDAY: 1
X-MICROSOFT-CDO-ALLDAYEVENT: TRUE

END:VEVENT
BEGIN:VEVENT
UID:132-87
LOCATION:
SUMMARY:Evento sin Título
DTSTAMP:20171030T000000
ORGANIZER;CN=admin:MAILTO:herjios@ensjerico.edu.co
DTSTART;TZID=America/Bogota:20171030T000000
DTEND;TZID=America/Bogota:20171031T000000
URL;VALUE=URI:http://www.normalsuperiordejerico.com/wordpress/my-calendar/
DESCRIPTION: 
CATEGORIES:Asamblea
X-FUNAMBOL-ALLDAY: 1
X-MICROSOFT-CDO-ALLDAYEVENT: TRUE

END:VEVENT
BEGIN:VEVENT
UID:129-84
LOCATION:
SUMMARY:Grados de Preescolar
DTSTAMP:20171124T000000
ORGANIZER;CN=admin:MAILTO:herjios@ensjerico.edu.co
DTSTART;TZID=America/Bogota:20171124T000000
DTEND;TZID=America/Bogota:20171125T000000
URL;VALUE=URI:http://www.normalsuperiordejerico.com/wordpress/my-calendar/
DESCRIPTION:Celebración de los grados del nivel de Preescolar ENS Jericó 
CATEGORIES:Institucional
X-FUNAMBOL-ALLDAY: 1
X-MICROSOFT-CDO-ALLDAYEVENT: TRUE

END:VEVENT
BEGIN:VEVENT
UID:127-82
LOCATION:
SUMMARY:Evaluaciones Finales 3er periodo 2017 (Areas de Docentes Paro)
DTSTAMP:20171120T000000
ORGANIZER;CN=admin:MAILTO:herjios@ensjerico.edu.co
DTSTART;TZID=America/Bogota:20171120T000000
DTEND;TZID=America/Bogota:20171125T000000
URL;VALUE=URI:http://www.normalsuperiordejerico.com/wordpress/my-calendar/
DESCRIPTION:Evaluaciones finales 3 periodo 2017 para áreas de docentes que si estuvieron en el paro 
CATEGORIES:Institucional
X-FUNAMBOL-ALLDAY: 1
X-MICROSOFT-CDO-ALLDAYEVENT: TRUE

END:VEVENT
BEGIN:VEVENT
UID:126-81
LOCATION:
SUMMARY:Evaluaciones Finales 3er periodo 2017 (Areas de Docentes no Paro)
DTSTAMP:20171120T000000
ORGANIZER;CN=admin:MAILTO:herjios@ensjerico.edu.co
DTSTART;TZID=America/Bogota:20171120T000000
DTEND;TZID=America/Bogota:20171124T000000
URL;VALUE=URI:http://www.normalsuperiordejerico.com/wordpress/my-calendar/
DESCRIPTION:Evaluaciones finales 3 periodo 2017 áreas de docentes que no estuvieron en el paro 
CATEGORIES:Institucional
X-FUNAMBOL-ALLDAY: 1
X-MICROSOFT-CDO-ALLDAYEVENT: TRUE

END:VEVENT
BEGIN:VEVENT
UID:124-80
LOCATION:I.E. Escuela Normal Superior de Jericó - Sede Secundaria Carrera 2 No 5 - 36  Jericó  Antioquia
SUMMARY:Evaluaciones Finales 3er periodo 2017 (Docentes no Paro)
DTSTAMP:20171116T000000
ORGANIZER;CN=admin:MAILTO:herjios@ensjerico.edu.co
DTSTART;TZID=America/Bogota:20171116T000000
DTEND;TZID=America/Bogota:20171118T000000
URL;VALUE=URI:http://www.normalsuperiordejerico.com/wordpress/my-calendar/
DESCRIPTION:Evaluaciones finales del 3 periodo de 2017 para los docentes que no estuvieron en paro 
CATEGORIES:Institucional
X-FUNAMBOL-ALLDAY: 1
X-MICROSOFT-CDO-ALLDAYEVENT: TRUE

END:VEVENT
BEGIN:VEVENT
UID:119-79
LOCATION:
SUMMARY:Socialización Proyectos de Investigación F.C.
DTSTAMP:20171115T000000
ORGANIZER;CN=admin:MAILTO:herjios@ensjerico.edu.co
DTSTART;TZID=America/Bogota:20171115T000000
DTEND;TZID=America/Bogota:20171116T000000
URL;VALUE=URI:http://www.normalsuperiordejerico.com/wordpress/my-calendar/
DESCRIPTION:Socialización del proceso de investigación programa de formación complementaria 
CATEGORIES:Institucional
X-FUNAMBOL-ALLDAY: 1
X-MICROSOFT-CDO-ALLDAYEVENT: TRUE

END:VEVENT
BEGIN:VEVENT
UID:106-78
LOCATION:I.E. Escuela Normal Superior de Jericó - Sede Secundaria Carrera 2 No 5 - 36  Jericó  Antioquia
SUMMARY:Dia Compensatorio con Estudiantes (Paro Educadores)
DTSTAMP:20171111T070000
ORGANIZER;CN=admin:MAILTO:herjios@ensjerico.edu.co
DTSTART;TZID=America/Bogota:20171111T070000
DTEND;TZID=America/Bogota:20171111T130000
URL;VALUE=URI:http://www.normalsuperiordejerico.com/wordpress/my-calendar/
DESCRIPTION:Dia Compensatorio (Paro de Educadores) 
CATEGORIES:General
END:VEVENT
BEGIN:VEVENT
UID:117-77
LOCATION:I.E. Escuela Normal Superior de Jericó - Sede Secundaria Carrera 2 No 5 - 36  Jericó  Antioquia
SUMMARY:Jornada Institucional Docentes del Paro
DTSTAMP:20171113T000000
ORGANIZER;CN=admin:MAILTO:herjios@ensjerico.edu.co
DTSTART;TZID=America/Bogota:20171113T000000
DTEND;TZID=America/Bogota:20171114T000000
URL;VALUE=URI:http://www.normalsuperiordejerico.com/wordpress/my-calendar/
DESCRIPTION:Día institucional de reposición del paro de docentes 
CATEGORIES:Institucional
X-FUNAMBOL-ALLDAY: 1
X-MICROSOFT-CDO-ALLDAYEVENT: TRUE

END:VEVENT
BEGIN:VEVENT
UID:114-74
LOCATION:
SUMMARY:Jornada Institucional Docentes del Paro
DTSTAMP:20171106T000000
ORGANIZER;CN=admin:MAILTO:herjios@ensjerico.edu.co
DTSTART;TZID=America/Bogota:20171106T000000
DTEND;TZID=America/Bogota:20171107T000000
URL;VALUE=URI:http://www.normalsuperiordejerico.com/wordpress/my-calendar/
DESCRIPTION:Día institucional de reposición del paro de docentes 
CATEGORIES:Institucional
X-FUNAMBOL-ALLDAY: 1
X-MICROSOFT-CDO-ALLDAYEVENT: TRUE

END:VEVENT
BEGIN:VEVENT
UID:113-73
LOCATION:I.E. Escuela Normal Superior de Jericó - Sede Secundaria Carrera 2 No 5 - 36  Jericó  Antioquia
SUMMARY:Integración Docentes y Empleados
DTSTAMP:20171103T000000
ORGANIZER;CN=admin:MAILTO:herjios@ensjerico.edu.co
DTSTART;TZID=America/Bogota:20171103T000000
DTEND;TZID=America/Bogota:20171104T000000
URL;VALUE=URI:http://www.normalsuperiordejerico.com/wordpress/my-calendar/
DESCRIPTION:Dia de Integración de docentes y empleados de la I.E.  Escuela Normal Superior de Jericó 
CATEGORIES:Reunión
X-FUNAMBOL-ALLDAY: 1
X-MICROSOFT-CDO-ALLDAYEVENT: TRUE

END:VEVENT
END:VCALENDAR